BEGIN:VCALENDAR
VERSION:2.0
PRODID:-//Tina Schumann - ECPv4.9.10//NONSGML v1.0//EN
CALSCALE:GREGORIAN
METHOD:PUBLISH
X-WR-CALNAME:Tina Schumann
X-ORIGINAL-URL:https://tina-schumann.de/en/
X-WR-CALDESC:Events for Tina Schumann
BEGIN:VTIMEZONE
TZID:Europe/Berlin
BEGIN:DAYLIGHT
TZOFFSETFROM:+0100
TZOFFSETTO:+0200
TZNAME:CEST
DTSTART:20210328T010000
END:DAYLIGHT
BEGIN:STANDARD
TZOFFSETFROM:+0200
TZOFFSETTO:+0100
TZNAME:CET
DTSTART:20211031T010000
END:STANDARD
END:VTIMEZONE
BEGIN:VEVENT
DTSTART;VALUE=DATE:20210505
DTEND;VALUE=DATE:20210508
DTSTAMP:20260419T214320
CREATED:20210502T105121Z
LAST-MODIFIED:20210502T105128Z
UID:811-1620172800-1620431999@tina-schumann.de
SUMMARY:ERA - Annual Conference on European Direct Taxation 2021
DESCRIPTION:Europäische Rechtsakademie \nTax developments in relation to COVID–19  \nDigital taxation\, Brexit\, European Green Deal \nLatest CJEU case law  \nERA_121R14e_E \n
URL:https://tina-schumann.de/en/event/era-annual-conference-on-european-direct-taxation-2021/
LOCATION:Webinar
END:VEVENT
END:VCALENDAR