BEGIN:VCALENDAR
VERSION:2.0
PRODID:-//Tina Schumann - ECPv4.9.10//NONSGML v1.0//EN
CALSCALE:GREGORIAN
METHOD:PUBLISH
X-WR-CALNAME:Tina Schumann
X-ORIGINAL-URL:https://tina-schumann.de/en/
X-WR-CALDESC:Events for Tina Schumann
BEGIN:VTIMEZONE
TZID:Europe/Berlin
BEGIN:DAYLIGHT
TZOFFSETFROM:+0100
TZOFFSETTO:+0200
TZNAME:CEST
DTSTART:20200329T010000
END:DAYLIGHT
BEGIN:STANDARD
TZOFFSETFROM:+0200
TZOFFSETTO:+0100
TZNAME:CET
DTSTART:20201025T010000
END:STANDARD
END:VTIMEZONE
BEGIN:VEVENT
DTSTART;VALUE=DATE:20200625
DTEND;VALUE=DATE:20200627
DTSTAMP:20260419T183632
CREATED:20200210T090841Z
LAST-MODIFIED:20200210T090841Z
UID:777-1593043200-1593215999@tina-schumann.de
SUMMARY:pwc Steuerforum Dresden
DESCRIPTION:More information to come soon. \n
URL:https://tina-schumann.de/en/event/pwc-steuerforum-dresden/
END:VEVENT
END:VCALENDAR